BEGIN:VCALENDAR
VERSION:2.0
PRODID:https://www.kufer.de/kuferweb / DE
METHOD:PUBLISH
CALSCALE:GREGORIAN
X-WR-TIMEZONE:Europe/Berlin
BEGIN:VTIMEZONE
TZID:Europe/Berlin
X-LIC-LOCATION:Europe/Berlin
BEGIN:DAYLIGHT
TZOFFSETFROM:+0100
TZOFFSETTO:+0200
TZNAME:CEST
DTSTART:19700329T020000
RRULE:FREQ=YEARLY;INTERVAL=1;BYDAY=-1SU;BYMONTH=3
END:DAYLIGHT
BEGIN:STANDARD
TZOFFSETFROM:+0200
TZOFFSETTO:+0100
TZNAME:CET
DTSTART:19701025T030000
RRULE:FREQ=YEARLY;INTERVAL=1;BYDAY=-1SU;BYMONTH=10
END:STANDARD
END:VTIMEZONE
BEGIN:VEVENT
DTSTAMP:20260420T104623
DTSTART;TZID=Europe/Berlin:20260121T164500
DTEND;TZID=Europe/Berlin:20260121T174500
UID:A26R3224-20260121T164500@VHSHAVELLAND
SUMMARY:Bodyworkout mit Stepp-Aerobic (A26R3224) 
LOCATION:Rathenow / Förderschule Spektrum / Turnhalle, Große Hagenstr. 3B, 14712 Rathenow
END:VEVENT
BEGIN:VEVENT
DTSTAMP:20260420T104623
DTSTART;TZID=Europe/Berlin:20260128T164500
DTEND;TZID=Europe/Berlin:20260128T174500
UID:A26R3224-20260128T164500@VHSHAVELLAND
SUMMARY:Bodyworkout mit Stepp-Aerobic (A26R3224) 
LOCATION:Rathenow / Förderschule Spektrum / Turnhalle, Große Hagenstr. 3B, 14712 Rathenow
END:VEVENT
BEGIN:VEVENT
DTSTAMP:20260420T104623
DTSTART;TZID=Europe/Berlin:20260211T164500
DTEND;TZID=Europe/Berlin:20260211T174500
UID:A26R3224-20260211T164500@VHSHAVELLAND
SUMMARY:Bodyworkout mit Stepp-Aerobic (A26R3224) 
LOCATION:Rathenow / Förderschule Spektrum / Turnhalle, Große Hagenstr. 3B, 14712 Rathenow
END:VEVENT
BEGIN:VEVENT
DTSTAMP:20260420T104623
DTSTART;TZID=Europe/Berlin:20260218T164500
DTEND;TZID=Europe/Berlin:20260218T174500
UID:A26R3224-20260218T164500@VHSHAVELLAND
SUMMARY:Bodyworkout mit Stepp-Aerobic (A26R3224) 
LOCATION:Rathenow / Förderschule Spektrum / Turnhalle, Große Hagenstr. 3B, 14712 Rathenow
END:VEVENT
BEGIN:VEVENT
DTSTAMP:20260420T104623
DTSTART;TZID=Europe/Berlin:20260225T164500
DTEND;TZID=Europe/Berlin:20260225T174500
UID:A26R3224-20260225T164500@VHSHAVELLAND
SUMMARY:Bodyworkout mit Stepp-Aerobic (A26R3224) 
LOCATION:Rathenow / Förderschule Spektrum / Turnhalle, Große Hagenstr. 3B, 14712 Rathenow
END:VEVENT
BEGIN:VEVENT
DTSTAMP:20260420T104623
DTSTART;TZID=Europe/Berlin:20260311T164500
DTEND;TZID=Europe/Berlin:20260311T174500
UID:A26R3224-20260311T164500@VHSHAVELLAND
SUMMARY:Bodyworkout mit Stepp-Aerobic (A26R3224) 
LOCATION:Rathenow / Förderschule Spektrum / Turnhalle, Große Hagenstr. 3B, 14712 Rathenow
END:VEVENT
BEGIN:VEVENT
DTSTAMP:20260420T104623
DTSTART;TZID=Europe/Berlin:20260318T164500
DTEND;TZID=Europe/Berlin:20260318T174500
UID:A26R3224-20260318T164500@VHSHAVELLAND
SUMMARY:Bodyworkout mit Stepp-Aerobic (A26R3224) 
LOCATION:Rathenow / Förderschule Spektrum / Turnhalle, Große Hagenstr. 3B, 14712 Rathenow
END:VEVENT
BEGIN:VEVENT
DTSTAMP:20260420T104623
DTSTART;TZID=Europe/Berlin:20260325T164500
DTEND;TZID=Europe/Berlin:20260325T174500
UID:A26R3224-20260325T164500@VHSHAVELLAND
SUMMARY:Bodyworkout mit Stepp-Aerobic (A26R3224) 
LOCATION:Rathenow / Förderschule Spektrum / Turnhalle, Große Hagenstr. 3B, 14712 Rathenow
END:VEVENT
BEGIN:VEVENT
DTSTAMP:20260420T104623
DTSTART;TZID=Europe/Berlin:20260415T164500
DTEND;TZID=Europe/Berlin:20260415T174500
UID:A26R3224-20260415T164500@VHSHAVELLAND
SUMMARY:Bodyworkout mit Stepp-Aerobic (A26R3224) 
LOCATION:Rathenow / Förderschule Spektrum / Turnhalle, Große Hagenstr. 3B, 14712 Rathenow
END:VEVENT
BEGIN:VEVENT
DTSTAMP:20260420T104623
DTSTART;TZID=Europe/Berlin:20260422T164500
DTEND;TZID=Europe/Berlin:20260422T174500
UID:A26R3224-20260422T164500@VHSHAVELLAND
SUMMARY:Bodyworkout mit Stepp-Aerobic (A26R3224) 
LOCATION:Rathenow / Förderschule Spektrum / Turnhalle, Große Hagenstr. 3B, 14712 Rathenow
END:VEVENT
BEGIN:VEVENT
DTSTAMP:20260420T104623
DTSTART;TZID=Europe/Berlin:20260429T164500
DTEND;TZID=Europe/Berlin:20260429T174500
UID:A26R3224-20260429T164500@VHSHAVELLAND
SUMMARY:Bodyworkout mit Stepp-Aerobic (A26R3224) 
LOCATION:Rathenow / Förderschule Spektrum / Turnhalle, Große Hagenstr. 3B, 14712 Rathenow
END:VEVENT
BEGIN:VEVENT
DTSTAMP:20260420T104623
DTSTART;TZID=Europe/Berlin:20260513T164500
DTEND;TZID=Europe/Berlin:20260513T174500
UID:A26R3224-20260513T164500@VHSHAVELLAND
SUMMARY:Bodyworkout mit Stepp-Aerobic (A26R3224) 
LOCATION:Rathenow / Förderschule Spektrum / Turnhalle, Große Hagenstr. 3B, 14712 Rathenow
END:VEVENT
BEGIN:VEVENT
DTSTAMP:20260420T104623
DTSTART;TZID=Europe/Berlin:20260520T164500
DTEND;TZID=Europe/Berlin:20260520T174500
UID:A26R3224-20260520T164500@VHSHAVELLAND
SUMMARY:Bodyworkout mit Stepp-Aerobic (A26R3224) 
LOCATION:Rathenow / Förderschule Spektrum / Turnhalle, Große Hagenstr. 3B, 14712 Rathenow
END:VEVENT
BEGIN:VEVENT
DTSTAMP:20260420T104623
DTSTART;TZID=Europe/Berlin:20260527T164500
DTEND;TZID=Europe/Berlin:20260527T174500
UID:A26R3224-20260527T164500@VHSHAVELLAND
SUMMARY:Bodyworkout mit Stepp-Aerobic (A26R3224) 
LOCATION:Rathenow / Förderschule Spektrum / Turnhalle, Große Hagenstr. 3B, 14712 Rathenow
END:VEVENT
BEGIN:VEVENT
DTSTAMP:20260420T104623
DTSTART;TZID=Europe/Berlin:20260603T164500
DTEND;TZID=Europe/Berlin:20260603T174500
UID:A26R3224-20260603T164500@VHSHAVELLAND
SUMMARY:Bodyworkout mit Stepp-Aerobic (A26R3224) 
LOCATION:Rathenow / Förderschule Spektrum / Turnhalle, Große Hagenstr. 3B, 14712 Rathenow
END:VEVENT
END:VCALENDAR