BEGIN:VCALENDAR
VERSION:2.0
PRODID:https://www.kufer.de/kuferweb / DE
METHOD:PUBLISH
CALSCALE:GREGORIAN
X-WR-TIMEZONE:Europe/Berlin
BEGIN:VTIMEZONE
TZID:Europe/Berlin
X-LIC-LOCATION:Europe/Berlin
BEGIN:DAYLIGHT
TZOFFSETFROM:+0100
TZOFFSETTO:+0200
TZNAME:CEST
DTSTART:19700329T020000
RRULE:FREQ=YEARLY;INTERVAL=1;BYDAY=-1SU;BYMONTH=3
END:DAYLIGHT
BEGIN:STANDARD
TZOFFSETFROM:+0200
TZOFFSETTO:+0100
TZNAME:CET
DTSTART:19701025T030000
RRULE:FREQ=YEARLY;INTERVAL=1;BYDAY=-1SU;BYMONTH=10
END:STANDARD
END:VTIMEZONE
BEGIN:VEVENT
DTSTAMP:20260420T122833
DTSTART;TZID=Europe/Berlin:20260121T153000
DTEND;TZID=Europe/Berlin:20260121T163000
UID:A26R3223-20260121T153000@VHSHAVELLAND
SUMMARY:Fit für den Alltag - Ganzkörpertraining (A26R3223) 
LOCATION:Rathenow / Förderschule Spektrum / Turnhalle, Große Hagenstr. 3B, 14712 Rathenow
END:VEVENT
BEGIN:VEVENT
DTSTAMP:20260420T122833
DTSTART;TZID=Europe/Berlin:20260128T153000
DTEND;TZID=Europe/Berlin:20260128T163000
UID:A26R3223-20260128T153000@VHSHAVELLAND
SUMMARY:Fit für den Alltag - Ganzkörpertraining (A26R3223) 
LOCATION:Rathenow / Förderschule Spektrum / Turnhalle, Große Hagenstr. 3B, 14712 Rathenow
END:VEVENT
BEGIN:VEVENT
DTSTAMP:20260420T122833
DTSTART;TZID=Europe/Berlin:20260211T153000
DTEND;TZID=Europe/Berlin:20260211T163000
UID:A26R3223-20260211T153000@VHSHAVELLAND
SUMMARY:Fit für den Alltag - Ganzkörpertraining (A26R3223) 
LOCATION:Rathenow / Förderschule Spektrum / Turnhalle, Große Hagenstr. 3B, 14712 Rathenow
END:VEVENT
BEGIN:VEVENT
DTSTAMP:20260420T122833
DTSTART;TZID=Europe/Berlin:20260218T153000
DTEND;TZID=Europe/Berlin:20260218T163000
UID:A26R3223-20260218T153000@VHSHAVELLAND
SUMMARY:Fit für den Alltag - Ganzkörpertraining (A26R3223) 
LOCATION:Rathenow / Förderschule Spektrum / Turnhalle, Große Hagenstr. 3B, 14712 Rathenow
END:VEVENT
BEGIN:VEVENT
DTSTAMP:20260420T122833
DTSTART;TZID=Europe/Berlin:20260225T153000
DTEND;TZID=Europe/Berlin:20260225T163000
UID:A26R3223-20260225T153000@VHSHAVELLAND
SUMMARY:Fit für den Alltag - Ganzkörpertraining (A26R3223) 
LOCATION:Rathenow / Förderschule Spektrum / Turnhalle, Große Hagenstr. 3B, 14712 Rathenow
END:VEVENT
BEGIN:VEVENT
DTSTAMP:20260420T122833
DTSTART;TZID=Europe/Berlin:20260311T153000
DTEND;TZID=Europe/Berlin:20260311T163000
UID:A26R3223-20260311T153000@VHSHAVELLAND
SUMMARY:Fit für den Alltag - Ganzkörpertraining (A26R3223) 
LOCATION:Rathenow / Förderschule Spektrum / Turnhalle, Große Hagenstr. 3B, 14712 Rathenow
END:VEVENT
BEGIN:VEVENT
DTSTAMP:20260420T122833
DTSTART;TZID=Europe/Berlin:20260318T153000
DTEND;TZID=Europe/Berlin:20260318T163000
UID:A26R3223-20260318T153000@VHSHAVELLAND
SUMMARY:Fit für den Alltag - Ganzkörpertraining (A26R3223) 
LOCATION:Rathenow / Förderschule Spektrum / Turnhalle, Große Hagenstr. 3B, 14712 Rathenow
END:VEVENT
BEGIN:VEVENT
DTSTAMP:20260420T122833
DTSTART;TZID=Europe/Berlin:20260325T153000
DTEND;TZID=Europe/Berlin:20260325T163000
UID:A26R3223-20260325T153000@VHSHAVELLAND
SUMMARY:Fit für den Alltag - Ganzkörpertraining (A26R3223) 
LOCATION:Rathenow / Förderschule Spektrum / Turnhalle, Große Hagenstr. 3B, 14712 Rathenow
END:VEVENT
BEGIN:VEVENT
DTSTAMP:20260420T122833
DTSTART;TZID=Europe/Berlin:20260415T153000
DTEND;TZID=Europe/Berlin:20260415T163000
UID:A26R3223-20260415T153000@VHSHAVELLAND
SUMMARY:Fit für den Alltag - Ganzkörpertraining (A26R3223) 
LOCATION:Rathenow / Förderschule Spektrum / Turnhalle, Große Hagenstr. 3B, 14712 Rathenow
END:VEVENT
BEGIN:VEVENT
DTSTAMP:20260420T122833
DTSTART;TZID=Europe/Berlin:20260422T153000
DTEND;TZID=Europe/Berlin:20260422T163000
UID:A26R3223-20260422T153000@VHSHAVELLAND
SUMMARY:Fit für den Alltag - Ganzkörpertraining (A26R3223) 
LOCATION:Rathenow / Förderschule Spektrum / Turnhalle, Große Hagenstr. 3B, 14712 Rathenow
END:VEVENT
BEGIN:VEVENT
DTSTAMP:20260420T122833
DTSTART;TZID=Europe/Berlin:20260429T153000
DTEND;TZID=Europe/Berlin:20260429T163000
UID:A26R3223-20260429T153000@VHSHAVELLAND
SUMMARY:Fit für den Alltag - Ganzkörpertraining (A26R3223) 
LOCATION:Rathenow / Förderschule Spektrum / Turnhalle, Große Hagenstr. 3B, 14712 Rathenow
END:VEVENT
BEGIN:VEVENT
DTSTAMP:20260420T122833
DTSTART;TZID=Europe/Berlin:20260513T153000
DTEND;TZID=Europe/Berlin:20260513T163000
UID:A26R3223-20260513T153000@VHSHAVELLAND
SUMMARY:Fit für den Alltag - Ganzkörpertraining (A26R3223) 
LOCATION:Rathenow / Förderschule Spektrum / Turnhalle, Große Hagenstr. 3B, 14712 Rathenow
END:VEVENT
BEGIN:VEVENT
DTSTAMP:20260420T122833
DTSTART;TZID=Europe/Berlin:20260520T153000
DTEND;TZID=Europe/Berlin:20260520T163000
UID:A26R3223-20260520T153000@VHSHAVELLAND
SUMMARY:Fit für den Alltag - Ganzkörpertraining (A26R3223) 
LOCATION:Rathenow / Förderschule Spektrum / Turnhalle, Große Hagenstr. 3B, 14712 Rathenow
END:VEVENT
BEGIN:VEVENT
DTSTAMP:20260420T122833
DTSTART;TZID=Europe/Berlin:20260527T153000
DTEND;TZID=Europe/Berlin:20260527T163000
UID:A26R3223-20260527T153000@VHSHAVELLAND
SUMMARY:Fit für den Alltag - Ganzkörpertraining (A26R3223) 
LOCATION:Rathenow / Förderschule Spektrum / Turnhalle, Große Hagenstr. 3B, 14712 Rathenow
END:VEVENT
BEGIN:VEVENT
DTSTAMP:20260420T122833
DTSTART;TZID=Europe/Berlin:20260603T153000
DTEND;TZID=Europe/Berlin:20260603T163000
UID:A26R3223-20260603T153000@VHSHAVELLAND
SUMMARY:Fit für den Alltag - Ganzkörpertraining (A26R3223) 
LOCATION:Rathenow / Förderschule Spektrum / Turnhalle, Große Hagenstr. 3B, 14712 Rathenow
END:VEVENT
END:VCALENDAR