BEGIN:VCALENDAR
VERSION:2.0
PRODID:https://www.kufer.de/kuferweb / DE
METHOD:PUBLISH
CALSCALE:GREGORIAN
X-WR-TIMEZONE:Europe/Berlin
BEGIN:VTIMEZONE
TZID:Europe/Berlin
X-LIC-LOCATION:Europe/Berlin
BEGIN:DAYLIGHT
TZOFFSETFROM:+0100
TZOFFSETTO:+0200
TZNAME:CEST
DTSTART:19700329T020000
RRULE:FREQ=YEARLY;INTERVAL=1;BYDAY=-1SU;BYMONTH=3
END:DAYLIGHT
BEGIN:STANDARD
TZOFFSETFROM:+0200
TZOFFSETTO:+0100
TZNAME:CET
DTSTART:19701025T030000
RRULE:FREQ=YEARLY;INTERVAL=1;BYDAY=-1SU;BYMONTH=10
END:STANDARD
END:VTIMEZONE
BEGIN:VEVENT
DTSTAMP:20260420T104636
DTSTART;TZID=Europe/Berlin:20260122T100000
DTEND;TZID=Europe/Berlin:20260122T110000
UID:A26R3219-20260122T100000@VHSHAVELLAND
SUMMARY:Herz aktiv - Ganzkörpertraining für Herz und Kreislauf (A26R3219) 
LOCATION:Rathenow / VHS / Saal, Bammer Landstr. 10, 14712 Rathenow
END:VEVENT
BEGIN:VEVENT
DTSTAMP:20260420T104636
DTSTART;TZID=Europe/Berlin:20260129T100000
DTEND;TZID=Europe/Berlin:20260129T110000
UID:A26R3219-20260129T100000@VHSHAVELLAND
SUMMARY:Herz aktiv - Ganzkörpertraining für Herz und Kreislauf (A26R3219) 
LOCATION:Rathenow / VHS / Saal, Bammer Landstr. 10, 14712 Rathenow
END:VEVENT
BEGIN:VEVENT
DTSTAMP:20260420T104636
DTSTART;TZID=Europe/Berlin:20260212T100000
DTEND;TZID=Europe/Berlin:20260212T110000
UID:A26R3219-20260212T100000@VHSHAVELLAND
SUMMARY:Herz aktiv - Ganzkörpertraining für Herz und Kreislauf (A26R3219) 
LOCATION:Rathenow / VHS / Saal, Bammer Landstr. 10, 14712 Rathenow
END:VEVENT
BEGIN:VEVENT
DTSTAMP:20260420T104636
DTSTART;TZID=Europe/Berlin:20260219T100000
DTEND;TZID=Europe/Berlin:20260219T110000
UID:A26R3219-20260219T100000@VHSHAVELLAND
SUMMARY:Herz aktiv - Ganzkörpertraining für Herz und Kreislauf (A26R3219) 
LOCATION:Rathenow / VHS / Saal, Bammer Landstr. 10, 14712 Rathenow
END:VEVENT
BEGIN:VEVENT
DTSTAMP:20260420T104636
DTSTART;TZID=Europe/Berlin:20260226T100000
DTEND;TZID=Europe/Berlin:20260226T110000
UID:A26R3219-20260226T100000@VHSHAVELLAND
SUMMARY:Herz aktiv - Ganzkörpertraining für Herz und Kreislauf (A26R3219) 
LOCATION:Rathenow / VHS / Saal, Bammer Landstr. 10, 14712 Rathenow
END:VEVENT
BEGIN:VEVENT
DTSTAMP:20260420T104636
DTSTART;TZID=Europe/Berlin:20260305T100000
DTEND;TZID=Europe/Berlin:20260305T110000
UID:A26R3219-20260305T100000@VHSHAVELLAND
SUMMARY:Herz aktiv - Ganzkörpertraining für Herz und Kreislauf (A26R3219) 
LOCATION:Rathenow / VHS / Saal, Bammer Landstr. 10, 14712 Rathenow
END:VEVENT
BEGIN:VEVENT
DTSTAMP:20260420T104636
DTSTART;TZID=Europe/Berlin:20260312T100000
DTEND;TZID=Europe/Berlin:20260312T110000
UID:A26R3219-20260312T100000@VHSHAVELLAND
SUMMARY:Herz aktiv - Ganzkörpertraining für Herz und Kreislauf (A26R3219) 
LOCATION:Rathenow / VHS / Saal, Bammer Landstr. 10, 14712 Rathenow
END:VEVENT
BEGIN:VEVENT
DTSTAMP:20260420T104636
DTSTART;TZID=Europe/Berlin:20260319T100000
DTEND;TZID=Europe/Berlin:20260319T110000
UID:A26R3219-20260319T100000@VHSHAVELLAND
SUMMARY:Herz aktiv - Ganzkörpertraining für Herz und Kreislauf (A26R3219) 
LOCATION:Rathenow / VHS / Saal, Bammer Landstr. 10, 14712 Rathenow
END:VEVENT
BEGIN:VEVENT
DTSTAMP:20260420T104636
DTSTART;TZID=Europe/Berlin:20260326T100000
DTEND;TZID=Europe/Berlin:20260326T110000
UID:A26R3219-20260326T100000@VHSHAVELLAND
SUMMARY:Herz aktiv - Ganzkörpertraining für Herz und Kreislauf (A26R3219) 
LOCATION:Rathenow / VHS / Saal, Bammer Landstr. 10, 14712 Rathenow
END:VEVENT
BEGIN:VEVENT
DTSTAMP:20260420T104636
DTSTART;TZID=Europe/Berlin:20260416T100000
DTEND;TZID=Europe/Berlin:20260416T110000
UID:A26R3219-20260416T100000@VHSHAVELLAND
SUMMARY:Herz aktiv - Ganzkörpertraining für Herz und Kreislauf (A26R3219) 
LOCATION:Rathenow / VHS / Saal, Bammer Landstr. 10, 14712 Rathenow
END:VEVENT
BEGIN:VEVENT
DTSTAMP:20260420T104636
DTSTART;TZID=Europe/Berlin:20260423T100000
DTEND;TZID=Europe/Berlin:20260423T110000
UID:A26R3219-20260423T100000@VHSHAVELLAND
SUMMARY:Herz aktiv - Ganzkörpertraining für Herz und Kreislauf (A26R3219) 
LOCATION:Rathenow / VHS / Saal, Bammer Landstr. 10, 14712 Rathenow
END:VEVENT
BEGIN:VEVENT
DTSTAMP:20260420T104636
DTSTART;TZID=Europe/Berlin:20260430T100000
DTEND;TZID=Europe/Berlin:20260430T110000
UID:A26R3219-20260430T100000@VHSHAVELLAND
SUMMARY:Herz aktiv - Ganzkörpertraining für Herz und Kreislauf (A26R3219) 
LOCATION:Rathenow / VHS / Saal, Bammer Landstr. 10, 14712 Rathenow
END:VEVENT
BEGIN:VEVENT
DTSTAMP:20260420T104636
DTSTART;TZID=Europe/Berlin:20260507T100000
DTEND;TZID=Europe/Berlin:20260507T110000
UID:A26R3219-20260507T100000@VHSHAVELLAND
SUMMARY:Herz aktiv - Ganzkörpertraining für Herz und Kreislauf (A26R3219) 
LOCATION:Rathenow / VHS / Saal, Bammer Landstr. 10, 14712 Rathenow
END:VEVENT
BEGIN:VEVENT
DTSTAMP:20260420T104636
DTSTART;TZID=Europe/Berlin:20260521T100000
DTEND;TZID=Europe/Berlin:20260521T110000
UID:A26R3219-20260521T100000@VHSHAVELLAND
SUMMARY:Herz aktiv - Ganzkörpertraining für Herz und Kreislauf (A26R3219) 
LOCATION:Rathenow / VHS / Saal, Bammer Landstr. 10, 14712 Rathenow
END:VEVENT
BEGIN:VEVENT
DTSTAMP:20260420T104636
DTSTART;TZID=Europe/Berlin:20260528T100000
DTEND;TZID=Europe/Berlin:20260528T110000
UID:A26R3219-20260528T100000@VHSHAVELLAND
SUMMARY:Herz aktiv - Ganzkörpertraining für Herz und Kreislauf (A26R3219) 
LOCATION:Rathenow / VHS / Saal, Bammer Landstr. 10, 14712 Rathenow
END:VEVENT
BEGIN:VEVENT
DTSTAMP:20260420T104636
DTSTART;TZID=Europe/Berlin:20260604T100000
DTEND;TZID=Europe/Berlin:20260604T110000
UID:A26R3219-20260604T100000@VHSHAVELLAND
SUMMARY:Herz aktiv - Ganzkörpertraining für Herz und Kreislauf (A26R3219) 
LOCATION:Rathenow / VHS / Saal, Bammer Landstr. 10, 14712 Rathenow
END:VEVENT
BEGIN:VEVENT
DTSTAMP:20260420T104636
DTSTART;TZID=Europe/Berlin:20260611T100000
DTEND;TZID=Europe/Berlin:20260611T110000
UID:A26R3219-20260611T100000@VHSHAVELLAND
SUMMARY:Herz aktiv - Ganzkörpertraining für Herz und Kreislauf (A26R3219) 
LOCATION:Rathenow / VHS / Saal, Bammer Landstr. 10, 14712 Rathenow
END:VEVENT
BEGIN:VEVENT
DTSTAMP:20260420T104636
DTSTART;TZID=Europe/Berlin:20260618T100000
DTEND;TZID=Europe/Berlin:20260618T110000
UID:A26R3219-20260618T100000@VHSHAVELLAND
SUMMARY:Herz aktiv - Ganzkörpertraining für Herz und Kreislauf (A26R3219) 
LOCATION:Rathenow / VHS / Saal, Bammer Landstr. 10, 14712 Rathenow
END:VEVENT
END:VCALENDAR