BEGIN:VCALENDAR
VERSION:2.0
PRODID:https://www.kufer.de/kuferweb / DE
METHOD:PUBLISH
CALSCALE:GREGORIAN
X-WR-TIMEZONE:Europe/Berlin
BEGIN:VTIMEZONE
TZID:Europe/Berlin
X-LIC-LOCATION:Europe/Berlin
BEGIN:DAYLIGHT
TZOFFSETFROM:+0100
TZOFFSETTO:+0200
TZNAME:CEST
DTSTART:19700329T020000
RRULE:FREQ=YEARLY;INTERVAL=1;BYDAY=-1SU;BYMONTH=3
END:DAYLIGHT
BEGIN:STANDARD
TZOFFSETFROM:+0200
TZOFFSETTO:+0100
TZNAME:CET
DTSTART:19701025T030000
RRULE:FREQ=YEARLY;INTERVAL=1;BYDAY=-1SU;BYMONTH=10
END:STANDARD
END:VTIMEZONE
BEGIN:VEVENT
DTSTAMP:20260420T171810
DTSTART;TZID=Europe/Berlin:20260216T172000
DTEND;TZID=Europe/Berlin:20260216T185000
UID:A26R3109-20260216T172000@VHSHAVELLAND
SUMMARY:Yoga (A26R3109) 
LOCATION:Rathenow / VHS / Raum 306, Bammer Landstr. 10, 14712 Rathenow
END:VEVENT
BEGIN:VEVENT
DTSTAMP:20260420T171810
DTSTART;TZID=Europe/Berlin:20260223T172000
DTEND;TZID=Europe/Berlin:20260223T185000
UID:A26R3109-20260223T172000@VHSHAVELLAND
SUMMARY:Yoga (A26R3109) 
LOCATION:Rathenow / VHS / Raum 306, Bammer Landstr. 10, 14712 Rathenow
END:VEVENT
BEGIN:VEVENT
DTSTAMP:20260420T171810
DTSTART;TZID=Europe/Berlin:20260302T172000
DTEND;TZID=Europe/Berlin:20260302T185000
UID:A26R3109-20260302T172000@VHSHAVELLAND
SUMMARY:Yoga (A26R3109) 
LOCATION:Rathenow / VHS / Raum 306, Bammer Landstr. 10, 14712 Rathenow
END:VEVENT
BEGIN:VEVENT
DTSTAMP:20260420T171810
DTSTART;TZID=Europe/Berlin:20260309T172000
DTEND;TZID=Europe/Berlin:20260309T185000
UID:A26R3109-20260309T172000@VHSHAVELLAND
SUMMARY:Yoga (A26R3109) 
LOCATION:Rathenow / VHS / Raum 306, Bammer Landstr. 10, 14712 Rathenow
END:VEVENT
BEGIN:VEVENT
DTSTAMP:20260420T171810
DTSTART;TZID=Europe/Berlin:20260316T172000
DTEND;TZID=Europe/Berlin:20260316T185000
UID:A26R3109-20260316T172000@VHSHAVELLAND
SUMMARY:Yoga (A26R3109) 
LOCATION:Rathenow / VHS / Raum 306, Bammer Landstr. 10, 14712 Rathenow
END:VEVENT
BEGIN:VEVENT
DTSTAMP:20260420T171810
DTSTART;TZID=Europe/Berlin:20260323T172000
DTEND;TZID=Europe/Berlin:20260323T185000
UID:A26R3109-20260323T172000@VHSHAVELLAND
SUMMARY:Yoga (A26R3109) 
LOCATION:Rathenow / VHS / Raum 306, Bammer Landstr. 10, 14712 Rathenow
END:VEVENT
BEGIN:VEVENT
DTSTAMP:20260420T171810
DTSTART;TZID=Europe/Berlin:20260413T172000
DTEND;TZID=Europe/Berlin:20260413T185000
UID:A26R3109-20260413T172000@VHSHAVELLAND
SUMMARY:Yoga (A26R3109) 
LOCATION:Rathenow / VHS / Raum 306, Bammer Landstr. 10, 14712 Rathenow
END:VEVENT
BEGIN:VEVENT
DTSTAMP:20260420T171810
DTSTART;TZID=Europe/Berlin:20260420T172000
DTEND;TZID=Europe/Berlin:20260420T185000
UID:A26R3109-20260420T172000@VHSHAVELLAND
SUMMARY:Yoga (A26R3109) 
LOCATION:Rathenow / VHS / Raum 306, Bammer Landstr. 10, 14712 Rathenow
END:VEVENT
BEGIN:VEVENT
DTSTAMP:20260420T171810
DTSTART;TZID=Europe/Berlin:20260427T172000
DTEND;TZID=Europe/Berlin:20260427T185000
UID:A26R3109-20260427T172000@VHSHAVELLAND
SUMMARY:Yoga (A26R3109) 
LOCATION:Rathenow / VHS / Raum 306, Bammer Landstr. 10, 14712 Rathenow
END:VEVENT
BEGIN:VEVENT
DTSTAMP:20260420T171810
DTSTART;TZID=Europe/Berlin:20260504T172000
DTEND;TZID=Europe/Berlin:20260504T185000
UID:A26R3109-20260504T172000@VHSHAVELLAND
SUMMARY:Yoga (A26R3109) 
LOCATION:Rathenow / VHS / Raum 306, Bammer Landstr. 10, 14712 Rathenow
END:VEVENT
BEGIN:VEVENT
DTSTAMP:20260420T171810
DTSTART;TZID=Europe/Berlin:20260511T172000
DTEND;TZID=Europe/Berlin:20260511T185000
UID:A26R3109-20260511T172000@VHSHAVELLAND
SUMMARY:Yoga (A26R3109) 
LOCATION:Rathenow / VHS / Raum 306, Bammer Landstr. 10, 14712 Rathenow
END:VEVENT
BEGIN:VEVENT
DTSTAMP:20260420T171810
DTSTART;TZID=Europe/Berlin:20260518T172000
DTEND;TZID=Europe/Berlin:20260518T185000
UID:A26R3109-20260518T172000@VHSHAVELLAND
SUMMARY:Yoga (A26R3109) 
LOCATION:Rathenow / VHS / Raum 306, Bammer Landstr. 10, 14712 Rathenow
END:VEVENT
BEGIN:VEVENT
DTSTAMP:20260420T171810
DTSTART;TZID=Europe/Berlin:20260601T172000
DTEND;TZID=Europe/Berlin:20260601T185000
UID:A26R3109-20260601T172000@VHSHAVELLAND
SUMMARY:Yoga (A26R3109) 
LOCATION:Rathenow / VHS / Raum 306, Bammer Landstr. 10, 14712 Rathenow
END:VEVENT
END:VCALENDAR