BEGIN:VCALENDAR
VERSION:2.0
PRODID:https://www.kufer.de/kuferweb / DE
METHOD:PUBLISH
CALSCALE:GREGORIAN
X-WR-TIMEZONE:Europe/Berlin
BEGIN:VTIMEZONE
TZID:Europe/Berlin
X-LIC-LOCATION:Europe/Berlin
BEGIN:DAYLIGHT
TZOFFSETFROM:+0100
TZOFFSETTO:+0200
TZNAME:CEST
DTSTART:19700329T020000
RRULE:FREQ=YEARLY;INTERVAL=1;BYDAY=-1SU;BYMONTH=3
END:DAYLIGHT
BEGIN:STANDARD
TZOFFSETFROM:+0200
TZOFFSETTO:+0100
TZNAME:CET
DTSTART:19701025T030000
RRULE:FREQ=YEARLY;INTERVAL=1;BYDAY=-1SU;BYMONTH=10
END:STANDARD
END:VTIMEZONE
BEGIN:VEVENT
DTSTAMP:20260420T185648
DTSTART;TZID=Europe/Berlin:20260210T173000
DTEND;TZID=Europe/Berlin:20260210T190000
UID:A26R3105-20260210T173000@VHSHAVELLAND
SUMMARY:Yoga (A26R3105) 
LOCATION:Rathenow / VHS / Raum 306, Bammer Landstr. 10, 14712 Rathenow
END:VEVENT
BEGIN:VEVENT
DTSTAMP:20260420T185648
DTSTART;TZID=Europe/Berlin:20260217T173000
DTEND;TZID=Europe/Berlin:20260217T190000
UID:A26R3105-20260217T173000@VHSHAVELLAND
SUMMARY:Yoga (A26R3105) 
LOCATION:Rathenow / VHS / Raum 306, Bammer Landstr. 10, 14712 Rathenow
END:VEVENT
BEGIN:VEVENT
DTSTAMP:20260420T185648
DTSTART;TZID=Europe/Berlin:20260224T173000
DTEND;TZID=Europe/Berlin:20260224T190000
UID:A26R3105-20260224T173000@VHSHAVELLAND
SUMMARY:Yoga (A26R3105) 
LOCATION:Rathenow / VHS / Raum 306, Bammer Landstr. 10, 14712 Rathenow
END:VEVENT
BEGIN:VEVENT
DTSTAMP:20260420T185648
DTSTART;TZID=Europe/Berlin:20260303T173000
DTEND;TZID=Europe/Berlin:20260303T190000
UID:A26R3105-20260303T173000@VHSHAVELLAND
SUMMARY:Yoga (A26R3105) 
LOCATION:Rathenow / VHS / Raum 306, Bammer Landstr. 10, 14712 Rathenow
END:VEVENT
BEGIN:VEVENT
DTSTAMP:20260420T185648
DTSTART;TZID=Europe/Berlin:20260310T173000
DTEND;TZID=Europe/Berlin:20260310T190000
UID:A26R3105-20260310T173000@VHSHAVELLAND
SUMMARY:Yoga (A26R3105) 
LOCATION:Rathenow / VHS / Raum 306, Bammer Landstr. 10, 14712 Rathenow
END:VEVENT
BEGIN:VEVENT
DTSTAMP:20260420T185648
DTSTART;TZID=Europe/Berlin:20260317T173000
DTEND;TZID=Europe/Berlin:20260317T190000
UID:A26R3105-20260317T173000@VHSHAVELLAND
SUMMARY:Yoga (A26R3105) 
LOCATION:Rathenow / VHS / Raum 306, Bammer Landstr. 10, 14712 Rathenow
END:VEVENT
BEGIN:VEVENT
DTSTAMP:20260420T185648
DTSTART;TZID=Europe/Berlin:20260324T173000
DTEND;TZID=Europe/Berlin:20260324T190000
UID:A26R3105-20260324T173000@VHSHAVELLAND
SUMMARY:Yoga (A26R3105) 
LOCATION:Rathenow / VHS / Raum 306, Bammer Landstr. 10, 14712 Rathenow
END:VEVENT
BEGIN:VEVENT
DTSTAMP:20260420T185648
DTSTART;TZID=Europe/Berlin:20260414T173000
DTEND;TZID=Europe/Berlin:20260414T190000
UID:A26R3105-20260414T173000@VHSHAVELLAND
SUMMARY:Yoga (A26R3105) 
LOCATION:Rathenow / VHS / Raum 306, Bammer Landstr. 10, 14712 Rathenow
END:VEVENT
BEGIN:VEVENT
DTSTAMP:20260420T185648
DTSTART;TZID=Europe/Berlin:20260421T173000
DTEND;TZID=Europe/Berlin:20260421T190000
UID:A26R3105-20260421T173000@VHSHAVELLAND
SUMMARY:Yoga (A26R3105) 
LOCATION:Rathenow / VHS / Raum 306, Bammer Landstr. 10, 14712 Rathenow
END:VEVENT
BEGIN:VEVENT
DTSTAMP:20260420T185648
DTSTART;TZID=Europe/Berlin:20260428T173000
DTEND;TZID=Europe/Berlin:20260428T190000
UID:A26R3105-20260428T173000@VHSHAVELLAND
SUMMARY:Yoga (A26R3105) 
LOCATION:Rathenow / VHS / Raum 306, Bammer Landstr. 10, 14712 Rathenow
END:VEVENT
BEGIN:VEVENT
DTSTAMP:20260420T185648
DTSTART;TZID=Europe/Berlin:20260505T173000
DTEND;TZID=Europe/Berlin:20260505T190000
UID:A26R3105-20260505T173000@VHSHAVELLAND
SUMMARY:Yoga (A26R3105) 
LOCATION:Rathenow / VHS / Raum 306, Bammer Landstr. 10, 14712 Rathenow
END:VEVENT
BEGIN:VEVENT
DTSTAMP:20260420T185648
DTSTART;TZID=Europe/Berlin:20260512T173000
DTEND;TZID=Europe/Berlin:20260512T190000
UID:A26R3105-20260512T173000@VHSHAVELLAND
SUMMARY:Yoga (A26R3105) 
LOCATION:Rathenow / VHS / Raum 306, Bammer Landstr. 10, 14712 Rathenow
END:VEVENT
BEGIN:VEVENT
DTSTAMP:20260420T185648
DTSTART;TZID=Europe/Berlin:20260519T173000
DTEND;TZID=Europe/Berlin:20260519T190000
UID:A26R3105-20260519T173000@VHSHAVELLAND
SUMMARY:Yoga (A26R3105) 
LOCATION:Rathenow / VHS / Raum 306, Bammer Landstr. 10, 14712 Rathenow
END:VEVENT
BEGIN:VEVENT
DTSTAMP:20260420T185648
DTSTART;TZID=Europe/Berlin:20260526T173000
DTEND;TZID=Europe/Berlin:20260526T190000
UID:A26R3105-20260526T173000@VHSHAVELLAND
SUMMARY:Yoga (A26R3105) 
LOCATION:Rathenow / VHS / Raum 306, Bammer Landstr. 10, 14712 Rathenow
END:VEVENT
BEGIN:VEVENT
DTSTAMP:20260420T185648
DTSTART;TZID=Europe/Berlin:20260602T173000
DTEND;TZID=Europe/Berlin:20260602T190000
UID:A26R3105-20260602T173000@VHSHAVELLAND
SUMMARY:Yoga (A26R3105) 
LOCATION:Rathenow / VHS / Raum 306, Bammer Landstr. 10, 14712 Rathenow
END:VEVENT
BEGIN:VEVENT
DTSTAMP:20260420T185648
DTSTART;TZID=Europe/Berlin:20260609T173000
DTEND;TZID=Europe/Berlin:20260609T190000
UID:A26R3105-20260609T173000@VHSHAVELLAND
SUMMARY:Yoga (A26R3105) 
LOCATION:Rathenow / VHS / Raum 306, Bammer Landstr. 10, 14712 Rathenow
END:VEVENT
BEGIN:VEVENT
DTSTAMP:20260420T185648
DTSTART;TZID=Europe/Berlin:20260616T173000
DTEND;TZID=Europe/Berlin:20260616T190000
UID:A26R3105-20260616T173000@VHSHAVELLAND
SUMMARY:Yoga (A26R3105) 
LOCATION:Rathenow / VHS / Raum 306, Bammer Landstr. 10, 14712 Rathenow
END:VEVENT
BEGIN:VEVENT
DTSTAMP:20260420T185648
DTSTART;TZID=Europe/Berlin:20260623T173000
DTEND;TZID=Europe/Berlin:20260623T190000
UID:A26R3105-20260623T173000@VHSHAVELLAND
SUMMARY:Yoga (A26R3105) 
LOCATION:Rathenow / VHS / Raum 306, Bammer Landstr. 10, 14712 Rathenow
END:VEVENT
END:VCALENDAR