BEGIN:VCALENDAR
VERSION:2.0
PRODID:https://www.kufer.de/kuferweb / DE
METHOD:PUBLISH
CALSCALE:GREGORIAN
X-WR-TIMEZONE:Europe/Berlin
BEGIN:VTIMEZONE
TZID:Europe/Berlin
X-LIC-LOCATION:Europe/Berlin
BEGIN:DAYLIGHT
TZOFFSETFROM:+0100
TZOFFSETTO:+0200
TZNAME:CEST
DTSTART:19700329T020000
RRULE:FREQ=YEARLY;INTERVAL=1;BYDAY=-1SU;BYMONTH=3
END:DAYLIGHT
BEGIN:STANDARD
TZOFFSETFROM:+0200
TZOFFSETTO:+0100
TZNAME:CET
DTSTART:19701025T030000
RRULE:FREQ=YEARLY;INTERVAL=1;BYDAY=-1SU;BYMONTH=10
END:STANDARD
END:VTIMEZONE
BEGIN:VEVENT
DTSTAMP:20260420T122945
DTSTART;TZID=Europe/Berlin:20260225T140000
DTEND;TZID=Europe/Berlin:20260225T161500
UID:A26R2715-20260225T140000@VHSHAVELLAND
SUMMARY:Aquarellmalerei für Fortgeschrittene und mutige Quereinsteiger am Nachmittag (A26R2715) 
LOCATION:Rathenow / VHS / Raum 301, Bammer Landstr. 10, 14712 Rathenow
END:VEVENT
BEGIN:VEVENT
DTSTAMP:20260420T122945
DTSTART;TZID=Europe/Berlin:20260304T140000
DTEND;TZID=Europe/Berlin:20260304T161500
UID:A26R2715-20260304T140000@VHSHAVELLAND
SUMMARY:Aquarellmalerei für Fortgeschrittene und mutige Quereinsteiger am Nachmittag (A26R2715) 
LOCATION:Rathenow / VHS / Raum 301, Bammer Landstr. 10, 14712 Rathenow
END:VEVENT
BEGIN:VEVENT
DTSTAMP:20260420T122945
DTSTART;TZID=Europe/Berlin:20260311T140000
DTEND;TZID=Europe/Berlin:20260311T161500
UID:A26R2715-20260311T140000@VHSHAVELLAND
SUMMARY:Aquarellmalerei für Fortgeschrittene und mutige Quereinsteiger am Nachmittag (A26R2715) 
LOCATION:Rathenow / VHS / Raum 301, Bammer Landstr. 10, 14712 Rathenow
END:VEVENT
BEGIN:VEVENT
DTSTAMP:20260420T122945
DTSTART;TZID=Europe/Berlin:20260318T140000
DTEND;TZID=Europe/Berlin:20260318T161500
UID:A26R2715-20260318T140000@VHSHAVELLAND
SUMMARY:Aquarellmalerei für Fortgeschrittene und mutige Quereinsteiger am Nachmittag (A26R2715) 
LOCATION:Rathenow / VHS / Raum 301, Bammer Landstr. 10, 14712 Rathenow
END:VEVENT
BEGIN:VEVENT
DTSTAMP:20260420T122945
DTSTART;TZID=Europe/Berlin:20260325T140000
DTEND;TZID=Europe/Berlin:20260325T161500
UID:A26R2715-20260325T140000@VHSHAVELLAND
SUMMARY:Aquarellmalerei für Fortgeschrittene und mutige Quereinsteiger am Nachmittag (A26R2715) 
LOCATION:Rathenow / VHS / Raum 301, Bammer Landstr. 10, 14712 Rathenow
END:VEVENT
BEGIN:VEVENT
DTSTAMP:20260420T122945
DTSTART;TZID=Europe/Berlin:20260415T140000
DTEND;TZID=Europe/Berlin:20260415T161500
UID:A26R2715-20260415T140000@VHSHAVELLAND
SUMMARY:Aquarellmalerei für Fortgeschrittene und mutige Quereinsteiger am Nachmittag (A26R2715) 
LOCATION:Rathenow / VHS / Raum 301, Bammer Landstr. 10, 14712 Rathenow
END:VEVENT
BEGIN:VEVENT
DTSTAMP:20260420T122945
DTSTART;TZID=Europe/Berlin:20260422T140000
DTEND;TZID=Europe/Berlin:20260422T161500
UID:A26R2715-20260422T140000@VHSHAVELLAND
SUMMARY:Aquarellmalerei für Fortgeschrittene und mutige Quereinsteiger am Nachmittag (A26R2715) 
LOCATION:Rathenow / VHS / Raum 301, Bammer Landstr. 10, 14712 Rathenow
END:VEVENT
BEGIN:VEVENT
DTSTAMP:20260420T122945
DTSTART;TZID=Europe/Berlin:20260506T140000
DTEND;TZID=Europe/Berlin:20260506T161500
UID:A26R2715-20260506T140000@VHSHAVELLAND
SUMMARY:Aquarellmalerei für Fortgeschrittene und mutige Quereinsteiger am Nachmittag (A26R2715) 
LOCATION:Rathenow / VHS / Raum 301, Bammer Landstr. 10, 14712 Rathenow
END:VEVENT
BEGIN:VEVENT
DTSTAMP:20260420T122945
DTSTART;TZID=Europe/Berlin:20260520T140000
DTEND;TZID=Europe/Berlin:20260520T161500
UID:A26R2715-20260520T140000@VHSHAVELLAND
SUMMARY:Aquarellmalerei für Fortgeschrittene und mutige Quereinsteiger am Nachmittag (A26R2715) 
LOCATION:Rathenow / VHS / Raum 301, Bammer Landstr. 10, 14712 Rathenow
END:VEVENT
BEGIN:VEVENT
DTSTAMP:20260420T122945
DTSTART;TZID=Europe/Berlin:20260527T140000
DTEND;TZID=Europe/Berlin:20260527T161500
UID:A26R2715-20260527T140000@VHSHAVELLAND
SUMMARY:Aquarellmalerei für Fortgeschrittene und mutige Quereinsteiger am Nachmittag (A26R2715) 
LOCATION:Rathenow / VHS / Raum 301, Bammer Landstr. 10, 14712 Rathenow
END:VEVENT
END:VCALENDAR