BEGIN:VCALENDAR
VERSION:2.0
PRODID:https://www.kufer.de/kuferweb / DE
METHOD:PUBLISH
CALSCALE:GREGORIAN
X-WR-TIMEZONE:Europe/Berlin
BEGIN:VTIMEZONE
TZID:Europe/Berlin
X-LIC-LOCATION:Europe/Berlin
BEGIN:DAYLIGHT
TZOFFSETFROM:+0100
TZOFFSETTO:+0200
TZNAME:CEST
DTSTART:19700329T020000
RRULE:FREQ=YEARLY;INTERVAL=1;BYDAY=-1SU;BYMONTH=3
END:DAYLIGHT
BEGIN:STANDARD
TZOFFSETFROM:+0200
TZOFFSETTO:+0100
TZNAME:CET
DTSTART:19701025T030000
RRULE:FREQ=YEARLY;INTERVAL=1;BYDAY=-1SU;BYMONTH=10
END:STANDARD
END:VTIMEZONE
BEGIN:VEVENT
DTSTAMP:20260420T122837
DTSTART;TZID=Europe/Berlin:20260213T173000
DTEND;TZID=Europe/Berlin:20260213T190000
UID:A26F4621-20260213T173000@VHSHAVELLAND
SUMMARY:Englisch - B1 Conversation meets grammar (A26F4621) 
LOCATION:Falkensee / VHS / Raum 107, Poststr. 15, 14612 Falkensee
END:VEVENT
BEGIN:VEVENT
DTSTAMP:20260420T122837
DTSTART;TZID=Europe/Berlin:20260220T173000
DTEND;TZID=Europe/Berlin:20260220T190000
UID:A26F4621-20260220T173000@VHSHAVELLAND
SUMMARY:Englisch - B1 Conversation meets grammar (A26F4621) 
LOCATION:Falkensee / VHS / Raum 107, Poststr. 15, 14612 Falkensee
END:VEVENT
BEGIN:VEVENT
DTSTAMP:20260420T122837
DTSTART;TZID=Europe/Berlin:20260227T173000
DTEND;TZID=Europe/Berlin:20260227T190000
UID:A26F4621-20260227T173000@VHSHAVELLAND
SUMMARY:Englisch - B1 Conversation meets grammar (A26F4621) 
LOCATION:Falkensee / VHS / Raum 107, Poststr. 15, 14612 Falkensee
END:VEVENT
BEGIN:VEVENT
DTSTAMP:20260420T122837
DTSTART;TZID=Europe/Berlin:20260306T173000
DTEND;TZID=Europe/Berlin:20260306T190000
UID:A26F4621-20260306T173000@VHSHAVELLAND
SUMMARY:Englisch - B1 Conversation meets grammar (A26F4621) 
LOCATION:Falkensee / VHS / Raum 107, Poststr. 15, 14612 Falkensee
END:VEVENT
BEGIN:VEVENT
DTSTAMP:20260420T122837
DTSTART;TZID=Europe/Berlin:20260313T173000
DTEND;TZID=Europe/Berlin:20260313T190000
UID:A26F4621-20260313T173000@VHSHAVELLAND
SUMMARY:Englisch - B1 Conversation meets grammar (A26F4621) 
LOCATION:Falkensee / VHS / Raum 107, Poststr. 15, 14612 Falkensee
END:VEVENT
BEGIN:VEVENT
DTSTAMP:20260420T122837
DTSTART;TZID=Europe/Berlin:20260320T173000
DTEND;TZID=Europe/Berlin:20260320T190000
UID:A26F4621-20260320T173000@VHSHAVELLAND
SUMMARY:Englisch - B1 Conversation meets grammar (A26F4621) 
LOCATION:Falkensee / VHS / Raum 107, Poststr. 15, 14612 Falkensee
END:VEVENT
BEGIN:VEVENT
DTSTAMP:20260420T122837
DTSTART;TZID=Europe/Berlin:20260327T173000
DTEND;TZID=Europe/Berlin:20260327T190000
UID:A26F4621-20260327T173000@VHSHAVELLAND
SUMMARY:Englisch - B1 Conversation meets grammar (A26F4621) 
LOCATION:Falkensee / VHS / Raum 107, Poststr. 15, 14612 Falkensee
END:VEVENT
BEGIN:VEVENT
DTSTAMP:20260420T122837
DTSTART;TZID=Europe/Berlin:20260417T173000
DTEND;TZID=Europe/Berlin:20260417T190000
UID:A26F4621-20260417T173000@VHSHAVELLAND
SUMMARY:Englisch - B1 Conversation meets grammar (A26F4621) 
LOCATION:Falkensee / VHS / Raum 107, Poststr. 15, 14612 Falkensee
END:VEVENT
BEGIN:VEVENT
DTSTAMP:20260420T122837
DTSTART;TZID=Europe/Berlin:20260424T173000
DTEND;TZID=Europe/Berlin:20260424T190000
UID:A26F4621-20260424T173000@VHSHAVELLAND
SUMMARY:Englisch - B1 Conversation meets grammar (A26F4621) 
LOCATION:Falkensee / VHS / Raum 107, Poststr. 15, 14612 Falkensee
END:VEVENT
BEGIN:VEVENT
DTSTAMP:20260420T122837
DTSTART;TZID=Europe/Berlin:20260508T173000
DTEND;TZID=Europe/Berlin:20260508T190000
UID:A26F4621-20260508T173000@VHSHAVELLAND
SUMMARY:Englisch - B1 Conversation meets grammar (A26F4621) 
LOCATION:Falkensee / VHS / Raum 107, Poststr. 15, 14612 Falkensee
END:VEVENT
BEGIN:VEVENT
DTSTAMP:20260420T122837
DTSTART;TZID=Europe/Berlin:20260522T173000
DTEND;TZID=Europe/Berlin:20260522T190000
UID:A26F4621-20260522T173000@VHSHAVELLAND
SUMMARY:Englisch - B1 Conversation meets grammar (A26F4621) 
LOCATION:Falkensee / VHS / Raum 107, Poststr. 15, 14612 Falkensee
END:VEVENT
BEGIN:VEVENT
DTSTAMP:20260420T122837
DTSTART;TZID=Europe/Berlin:20260529T173000
DTEND;TZID=Europe/Berlin:20260529T190000
UID:A26F4621-20260529T173000@VHSHAVELLAND
SUMMARY:Englisch - B1 Conversation meets grammar (A26F4621) 
LOCATION:Falkensee / VHS / Raum 107, Poststr. 15, 14612 Falkensee
END:VEVENT
BEGIN:VEVENT
DTSTAMP:20260420T122837
DTSTART;TZID=Europe/Berlin:20260605T173000
DTEND;TZID=Europe/Berlin:20260605T190000
UID:A26F4621-20260605T173000@VHSHAVELLAND
SUMMARY:Englisch - B1 Conversation meets grammar (A26F4621) 
LOCATION:Falkensee / VHS / Raum 107, Poststr. 15, 14612 Falkensee
END:VEVENT
BEGIN:VEVENT
DTSTAMP:20260420T122837
DTSTART;TZID=Europe/Berlin:20260612T173000
DTEND;TZID=Europe/Berlin:20260612T190000
UID:A26F4621-20260612T173000@VHSHAVELLAND
SUMMARY:Englisch - B1 Conversation meets grammar (A26F4621) 
LOCATION:Falkensee / VHS / Raum 107, Poststr. 15, 14612 Falkensee
END:VEVENT
BEGIN:VEVENT
DTSTAMP:20260420T122837
DTSTART;TZID=Europe/Berlin:20260619T173000
DTEND;TZID=Europe/Berlin:20260619T190000
UID:A26F4621-20260619T173000@VHSHAVELLAND
DESCRIPTION:15.12.25 (*EN): Ersatz für Brückentag 15.5.
SUMMARY:Englisch - B1 Conversation meets grammar (A26F4621) 
LOCATION:Falkensee / VHS / Raum 107, Poststr. 15, 14612 Falkensee
END:VEVENT
END:VCALENDAR