BEGIN:VCALENDAR
VERSION:2.0
PRODID:https://www.kufer.de/kuferweb / DE
METHOD:PUBLISH
CALSCALE:GREGORIAN
X-WR-TIMEZONE:Europe/Berlin
BEGIN:VTIMEZONE
TZID:Europe/Berlin
X-LIC-LOCATION:Europe/Berlin
BEGIN:DAYLIGHT
TZOFFSETFROM:+0100
TZOFFSETTO:+0200
TZNAME:CEST
DTSTART:19700329T020000
RRULE:FREQ=YEARLY;INTERVAL=1;BYDAY=-1SU;BYMONTH=3
END:DAYLIGHT
BEGIN:STANDARD
TZOFFSETFROM:+0200
TZOFFSETTO:+0100
TZNAME:CET
DTSTART:19701025T030000
RRULE:FREQ=YEARLY;INTERVAL=1;BYDAY=-1SU;BYMONTH=10
END:STANDARD
END:VTIMEZONE
BEGIN:VEVENT
DTSTAMP:20260420T104552
DTSTART;TZID=Europe/Berlin:20260213T153000
DTEND;TZID=Europe/Berlin:20260213T170000
UID:A26F4600-20260213T153000@VHSHAVELLAND
SUMMARY:Englisch für Anfänger/innen (A26F4600) 
LOCATION:Falkensee / VHS / Raum 107, Poststr. 15, 14612 Falkensee
END:VEVENT
BEGIN:VEVENT
DTSTAMP:20260420T104552
DTSTART;TZID=Europe/Berlin:20260220T153000
DTEND;TZID=Europe/Berlin:20260220T170000
UID:A26F4600-20260220T153000@VHSHAVELLAND
SUMMARY:Englisch für Anfänger/innen (A26F4600) 
LOCATION:Falkensee / VHS / Raum 107, Poststr. 15, 14612 Falkensee
END:VEVENT
BEGIN:VEVENT
DTSTAMP:20260420T104552
DTSTART;TZID=Europe/Berlin:20260227T153000
DTEND;TZID=Europe/Berlin:20260227T170000
UID:A26F4600-20260227T153000@VHSHAVELLAND
SUMMARY:Englisch für Anfänger/innen (A26F4600) 
LOCATION:Falkensee / VHS / Raum 107, Poststr. 15, 14612 Falkensee
END:VEVENT
BEGIN:VEVENT
DTSTAMP:20260420T104552
DTSTART;TZID=Europe/Berlin:20260306T153000
DTEND;TZID=Europe/Berlin:20260306T170000
UID:A26F4600-20260306T153000@VHSHAVELLAND
SUMMARY:Englisch für Anfänger/innen (A26F4600) 
LOCATION:Falkensee / VHS / Raum 107, Poststr. 15, 14612 Falkensee
END:VEVENT
BEGIN:VEVENT
DTSTAMP:20260420T104552
DTSTART;TZID=Europe/Berlin:20260313T153000
DTEND;TZID=Europe/Berlin:20260313T170000
UID:A26F4600-20260313T153000@VHSHAVELLAND
SUMMARY:Englisch für Anfänger/innen (A26F4600) 
LOCATION:Falkensee / VHS / Raum 107, Poststr. 15, 14612 Falkensee
END:VEVENT
BEGIN:VEVENT
DTSTAMP:20260420T104552
DTSTART;TZID=Europe/Berlin:20260320T153000
DTEND;TZID=Europe/Berlin:20260320T170000
UID:A26F4600-20260320T153000@VHSHAVELLAND
SUMMARY:Englisch für Anfänger/innen (A26F4600) 
LOCATION:Falkensee / VHS / Raum 107, Poststr. 15, 14612 Falkensee
END:VEVENT
BEGIN:VEVENT
DTSTAMP:20260420T104552
DTSTART;TZID=Europe/Berlin:20260327T153000
DTEND;TZID=Europe/Berlin:20260327T170000
UID:A26F4600-20260327T153000@VHSHAVELLAND
SUMMARY:Englisch für Anfänger/innen (A26F4600) 
LOCATION:Falkensee / VHS / Raum 107, Poststr. 15, 14612 Falkensee
END:VEVENT
BEGIN:VEVENT
DTSTAMP:20260420T104552
DTSTART;TZID=Europe/Berlin:20260417T153000
DTEND;TZID=Europe/Berlin:20260417T170000
UID:A26F4600-20260417T153000@VHSHAVELLAND
SUMMARY:Englisch für Anfänger/innen (A26F4600) 
LOCATION:Falkensee / VHS / Raum 107, Poststr. 15, 14612 Falkensee
END:VEVENT
BEGIN:VEVENT
DTSTAMP:20260420T104552
DTSTART;TZID=Europe/Berlin:20260424T153000
DTEND;TZID=Europe/Berlin:20260424T170000
UID:A26F4600-20260424T153000@VHSHAVELLAND
SUMMARY:Englisch für Anfänger/innen (A26F4600) 
LOCATION:Falkensee / VHS / Raum 107, Poststr. 15, 14612 Falkensee
END:VEVENT
BEGIN:VEVENT
DTSTAMP:20260420T104552
DTSTART;TZID=Europe/Berlin:20260508T153000
DTEND;TZID=Europe/Berlin:20260508T170000
UID:A26F4600-20260508T153000@VHSHAVELLAND
SUMMARY:Englisch für Anfänger/innen (A26F4600) 
LOCATION:Falkensee / VHS / Raum 107, Poststr. 15, 14612 Falkensee
END:VEVENT
BEGIN:VEVENT
DTSTAMP:20260420T104552
DTSTART;TZID=Europe/Berlin:20260522T153000
DTEND;TZID=Europe/Berlin:20260522T170000
UID:A26F4600-20260522T153000@VHSHAVELLAND
SUMMARY:Englisch für Anfänger/innen (A26F4600) 
LOCATION:Falkensee / VHS / Raum 107, Poststr. 15, 14612 Falkensee
END:VEVENT
BEGIN:VEVENT
DTSTAMP:20260420T104552
DTSTART;TZID=Europe/Berlin:20260529T153000
DTEND;TZID=Europe/Berlin:20260529T170000
UID:A26F4600-20260529T153000@VHSHAVELLAND
SUMMARY:Englisch für Anfänger/innen (A26F4600) 
LOCATION:Falkensee / VHS / Raum 107, Poststr. 15, 14612 Falkensee
END:VEVENT
BEGIN:VEVENT
DTSTAMP:20260420T104552
DTSTART;TZID=Europe/Berlin:20260605T153000
DTEND;TZID=Europe/Berlin:20260605T170000
UID:A26F4600-20260605T153000@VHSHAVELLAND
SUMMARY:Englisch für Anfänger/innen (A26F4600) 
LOCATION:Falkensee / VHS / Raum 107, Poststr. 15, 14612 Falkensee
END:VEVENT
BEGIN:VEVENT
DTSTAMP:20260420T104552
DTSTART;TZID=Europe/Berlin:20260612T153000
DTEND;TZID=Europe/Berlin:20260612T170000
UID:A26F4600-20260612T153000@VHSHAVELLAND
SUMMARY:Englisch für Anfänger/innen (A26F4600) 
LOCATION:Falkensee / VHS / Raum 107, Poststr. 15, 14612 Falkensee
END:VEVENT
BEGIN:VEVENT
DTSTAMP:20260420T104552
DTSTART;TZID=Europe/Berlin:20260619T153000
DTEND;TZID=Europe/Berlin:20260619T170000
UID:A26F4600-20260619T153000@VHSHAVELLAND
DESCRIPTION:15.12.25 (*EN): Ersatz für Brückentag 15.5.
SUMMARY:Englisch für Anfänger/innen (A26F4600) 
LOCATION:Falkensee / VHS / Raum 107, Poststr. 15, 14612 Falkensee
END:VEVENT
END:VCALENDAR