BEGIN:VCALENDAR
VERSION:2.0
PRODID:https://www.kufer.de/kuferweb / DE
METHOD:PUBLISH
CALSCALE:GREGORIAN
X-WR-TIMEZONE:Europe/Berlin
BEGIN:VTIMEZONE
TZID:Europe/Berlin
X-LIC-LOCATION:Europe/Berlin
BEGIN:DAYLIGHT
TZOFFSETFROM:+0100
TZOFFSETTO:+0200
TZNAME:CEST
DTSTART:19700329T020000
RRULE:FREQ=YEARLY;INTERVAL=1;BYDAY=-1SU;BYMONTH=3
END:DAYLIGHT
BEGIN:STANDARD
TZOFFSETFROM:+0200
TZOFFSETTO:+0100
TZNAME:CET
DTSTART:19701025T030000
RRULE:FREQ=YEARLY;INTERVAL=1;BYDAY=-1SU;BYMONTH=10
END:STANDARD
END:VTIMEZONE
BEGIN:VEVENT
DTSTAMP:20260420T122843
DTSTART;TZID=Europe/Berlin:20260213T173000
DTEND;TZID=Europe/Berlin:20260213T200000
UID:A26F4410-20260213T173000@VHSHAVELLAND
SUMMARY:Deutsch - B1.2 (A26F4410) 
LOCATION:Falkensee / VHS / Raum E-09, Poststr. 15, 14612 Falkensee
END:VEVENT
BEGIN:VEVENT
DTSTAMP:20260420T122843
DTSTART;TZID=Europe/Berlin:20260214T100000
DTEND;TZID=Europe/Berlin:20260214T123000
UID:A26F4410-20260214T100000@VHSHAVELLAND
SUMMARY:Deutsch - B1.2 (A26F4410) 
LOCATION:Falkensee / VHS / Raum E-09, Poststr. 15, 14612 Falkensee
END:VEVENT
BEGIN:VEVENT
DTSTAMP:20260420T122843
DTSTART;TZID=Europe/Berlin:20260220T173000
DTEND;TZID=Europe/Berlin:20260220T200000
UID:A26F4410-20260220T173000@VHSHAVELLAND
SUMMARY:Deutsch - B1.2 (A26F4410) 
LOCATION:Falkensee / VHS / Raum E-09, Poststr. 15, 14612 Falkensee
END:VEVENT
BEGIN:VEVENT
DTSTAMP:20260420T122843
DTSTART;TZID=Europe/Berlin:20260221T100000
DTEND;TZID=Europe/Berlin:20260221T123000
UID:A26F4410-20260221T100000@VHSHAVELLAND
SUMMARY:Deutsch - B1.2 (A26F4410) 
LOCATION:Falkensee / VHS / Raum E-09, Poststr. 15, 14612 Falkensee
END:VEVENT
BEGIN:VEVENT
DTSTAMP:20260420T122843
DTSTART;TZID=Europe/Berlin:20260227T173000
DTEND;TZID=Europe/Berlin:20260227T200000
UID:A26F4410-20260227T173000@VHSHAVELLAND
SUMMARY:Deutsch - B1.2 (A26F4410) 
LOCATION:Falkensee / VHS / Raum E-09, Poststr. 15, 14612 Falkensee
END:VEVENT
BEGIN:VEVENT
DTSTAMP:20260420T122843
DTSTART;TZID=Europe/Berlin:20260228T100000
DTEND;TZID=Europe/Berlin:20260228T123000
UID:A26F4410-20260228T100000@VHSHAVELLAND
SUMMARY:Deutsch - B1.2 (A26F4410) 
LOCATION:Falkensee / VHS / Raum E-09, Poststr. 15, 14612 Falkensee
END:VEVENT
BEGIN:VEVENT
DTSTAMP:20260420T122843
DTSTART;TZID=Europe/Berlin:20260306T180000
DTEND;TZID=Europe/Berlin:20260306T203000
UID:A26F4410-20260306T180000@VHSHAVELLAND
DESCRIPTION:06.03.26 (*EN): Verschiebung Uhrzeit auf Wunsch des Dozenten
SUMMARY:Deutsch - B1.2 (A26F4410) 
LOCATION:Falkensee / VHS / Raum E-09, Poststr. 15, 14612 Falkensee
END:VEVENT
BEGIN:VEVENT
DTSTAMP:20260420T122843
DTSTART;TZID=Europe/Berlin:20260307T100000
DTEND;TZID=Europe/Berlin:20260307T123000
UID:A26F4410-20260307T100000@VHSHAVELLAND
SUMMARY:Deutsch - B1.2 (A26F4410) 
LOCATION:Falkensee / VHS / Raum E-09, Poststr. 15, 14612 Falkensee
END:VEVENT
BEGIN:VEVENT
DTSTAMP:20260420T122843
DTSTART;TZID=Europe/Berlin:20260313T180000
DTEND;TZID=Europe/Berlin:20260313T203000
UID:A26F4410-20260313T180000@VHSHAVELLAND
SUMMARY:Deutsch - B1.2 (A26F4410) 
LOCATION:Falkensee / VHS / Raum E-09, Poststr. 15, 14612 Falkensee
END:VEVENT
BEGIN:VEVENT
DTSTAMP:20260420T122843
DTSTART;TZID=Europe/Berlin:20260314T100000
DTEND;TZID=Europe/Berlin:20260314T123000
UID:A26F4410-20260314T100000@VHSHAVELLAND
SUMMARY:Deutsch - B1.2 (A26F4410) 
LOCATION:Falkensee / VHS / Raum E-09, Poststr. 15, 14612 Falkensee
END:VEVENT
BEGIN:VEVENT
DTSTAMP:20260420T122843
DTSTART;TZID=Europe/Berlin:20260321T100000
DTEND;TZID=Europe/Berlin:20260321T123000
UID:A26F4410-20260321T100000@VHSHAVELLAND
SUMMARY:Deutsch - B1.2 (A26F4410) 
LOCATION:Falkensee / VHS / Raum E-09, Poststr. 15, 14612 Falkensee
END:VEVENT
BEGIN:VEVENT
DTSTAMP:20260420T122843
DTSTART;TZID=Europe/Berlin:20260327T180000
DTEND;TZID=Europe/Berlin:20260327T203000
UID:A26F4410-20260327T180000@VHSHAVELLAND
SUMMARY:Deutsch - B1.2 (A26F4410) 
LOCATION:Falkensee / VHS / Raum E-09, Poststr. 15, 14612 Falkensee
END:VEVENT
BEGIN:VEVENT
DTSTAMP:20260420T122843
DTSTART;TZID=Europe/Berlin:20260328T100000
DTEND;TZID=Europe/Berlin:20260328T123000
UID:A26F4410-20260328T100000@VHSHAVELLAND
SUMMARY:Deutsch - B1.2 (A26F4410) 
LOCATION:Falkensee / VHS / Raum E-09, Poststr. 15, 14612 Falkensee
END:VEVENT
BEGIN:VEVENT
DTSTAMP:20260420T122843
DTSTART;TZID=Europe/Berlin:20260417T180000
DTEND;TZID=Europe/Berlin:20260417T203000
UID:A26F4410-20260417T180000@VHSHAVELLAND
SUMMARY:Deutsch - B1.2 (A26F4410) 
LOCATION:Falkensee / VHS / Raum E-09, Poststr. 15, 14612 Falkensee
END:VEVENT
BEGIN:VEVENT
DTSTAMP:20260420T122843
DTSTART;TZID=Europe/Berlin:20260418T100000
DTEND;TZID=Europe/Berlin:20260418T123000
UID:A26F4410-20260418T100000@VHSHAVELLAND
SUMMARY:Deutsch - B1.2 (A26F4410) 
LOCATION:Falkensee / VHS / Raum E-09, Poststr. 15, 14612 Falkensee
END:VEVENT
BEGIN:VEVENT
DTSTAMP:20260420T122843
DTSTART;TZID=Europe/Berlin:20260424T180000
DTEND;TZID=Europe/Berlin:20260424T203000
UID:A26F4410-20260424T180000@VHSHAVELLAND
SUMMARY:Deutsch - B1.2 (A26F4410) 
LOCATION:Falkensee / VHS / Raum E-09, Poststr. 15, 14612 Falkensee
END:VEVENT
BEGIN:VEVENT
DTSTAMP:20260420T122843
DTSTART;TZID=Europe/Berlin:20260425T100000
DTEND;TZID=Europe/Berlin:20260425T123000
UID:A26F4410-20260425T100000@VHSHAVELLAND
SUMMARY:Deutsch - B1.2 (A26F4410) 
LOCATION:Falkensee / VHS / Raum E-09, Poststr. 15, 14612 Falkensee
END:VEVENT
BEGIN:VEVENT
DTSTAMP:20260420T122843
DTSTART;TZID=Europe/Berlin:20260508T180000
DTEND;TZID=Europe/Berlin:20260508T203000
UID:A26F4410-20260508T180000@VHSHAVELLAND
SUMMARY:Deutsch - B1.2 (A26F4410) 
LOCATION:Falkensee / VHS / Raum E-09, Poststr. 15, 14612 Falkensee
END:VEVENT
BEGIN:VEVENT
DTSTAMP:20260420T122843
DTSTART;TZID=Europe/Berlin:20260509T100000
DTEND;TZID=Europe/Berlin:20260509T123000
UID:A26F4410-20260509T100000@VHSHAVELLAND
SUMMARY:Deutsch - B1.2 (A26F4410) 
LOCATION:Falkensee / VHS / Raum E-09, Poststr. 15, 14612 Falkensee
END:VEVENT
BEGIN:VEVENT
DTSTAMP:20260420T122843
DTSTART;TZID=Europe/Berlin:20260516T180000
DTEND;TZID=Europe/Berlin:20260516T203000
UID:A26F4410-20260516T180000@VHSHAVELLAND
DESCRIPTION:13.04.26 (*EN): Nachholtermin für 20.03.26
SUMMARY:Deutsch - B1.2 (A26F4410) 
LOCATION:Falkensee / VHS / Raum E-09, Poststr. 15, 14612 Falkensee
END:VEVENT
END:VCALENDAR