BEGIN:VCALENDAR
VERSION:2.0
PRODID:https://www.kufer.de/kuferweb / DE
METHOD:PUBLISH
CALSCALE:GREGORIAN
X-WR-TIMEZONE:Europe/Berlin
BEGIN:VTIMEZONE
TZID:Europe/Berlin
X-LIC-LOCATION:Europe/Berlin
BEGIN:DAYLIGHT
TZOFFSETFROM:+0100
TZOFFSETTO:+0200
TZNAME:CEST
DTSTART:19700329T020000
RRULE:FREQ=YEARLY;INTERVAL=1;BYDAY=-1SU;BYMONTH=3
END:DAYLIGHT
BEGIN:STANDARD
TZOFFSETFROM:+0200
TZOFFSETTO:+0100
TZNAME:CET
DTSTART:19701025T030000
RRULE:FREQ=YEARLY;INTERVAL=1;BYDAY=-1SU;BYMONTH=10
END:STANDARD
END:VTIMEZONE
BEGIN:VEVENT
DTSTAMP:20260420T104659
DTSTART;TZID=Europe/Berlin:20260212T183000
DTEND;TZID=Europe/Berlin:20260212T193000
UID:A26F3216-20260212T183000@VHSHAVELLAND
SUMMARY:Salsation ® (A26F3216) 
LOCATION:Falkensee / VHS / Aula, Poststr. 15, 14612 Falkensee
END:VEVENT
BEGIN:VEVENT
DTSTAMP:20260420T104659
DTSTART;TZID=Europe/Berlin:20260219T183000
DTEND;TZID=Europe/Berlin:20260219T193000
UID:A26F3216-20260219T183000@VHSHAVELLAND
SUMMARY:Salsation ® (A26F3216) 
LOCATION:Falkensee / VHS / Aula, Poststr. 15, 14612 Falkensee
END:VEVENT
BEGIN:VEVENT
DTSTAMP:20260420T104659
DTSTART;TZID=Europe/Berlin:20260226T183000
DTEND;TZID=Europe/Berlin:20260226T193000
UID:A26F3216-20260226T183000@VHSHAVELLAND
SUMMARY:Salsation ® (A26F3216) 
LOCATION:Falkensee / VHS / Aula, Poststr. 15, 14612 Falkensee
END:VEVENT
BEGIN:VEVENT
DTSTAMP:20260420T104659
DTSTART;TZID=Europe/Berlin:20260305T183000
DTEND;TZID=Europe/Berlin:20260305T193000
UID:A26F3216-20260305T183000@VHSHAVELLAND
SUMMARY:Salsation ® (A26F3216) 
LOCATION:Falkensee / VHS / Aula, Poststr. 15, 14612 Falkensee
END:VEVENT
BEGIN:VEVENT
DTSTAMP:20260420T104659
DTSTART;TZID=Europe/Berlin:20260312T183000
DTEND;TZID=Europe/Berlin:20260312T193000
UID:A26F3216-20260312T183000@VHSHAVELLAND
SUMMARY:Salsation ® (A26F3216) 
LOCATION:Falkensee / VHS / Aula, Poststr. 15, 14612 Falkensee
END:VEVENT
BEGIN:VEVENT
DTSTAMP:20260420T104659
DTSTART;TZID=Europe/Berlin:20260319T183000
DTEND;TZID=Europe/Berlin:20260319T193000
UID:A26F3216-20260319T183000@VHSHAVELLAND
SUMMARY:Salsation ® (A26F3216) 
LOCATION:Falkensee / VHS / Aula, Poststr. 15, 14612 Falkensee
END:VEVENT
BEGIN:VEVENT
DTSTAMP:20260420T104659
DTSTART;TZID=Europe/Berlin:20260326T183000
DTEND;TZID=Europe/Berlin:20260326T193000
UID:A26F3216-20260326T183000@VHSHAVELLAND
SUMMARY:Salsation ® (A26F3216) 
LOCATION:Falkensee / VHS / Aula, Poststr. 15, 14612 Falkensee
END:VEVENT
BEGIN:VEVENT
DTSTAMP:20260420T104659
DTSTART;TZID=Europe/Berlin:20260416T183000
DTEND;TZID=Europe/Berlin:20260416T193000
UID:A26F3216-20260416T183000@VHSHAVELLAND
SUMMARY:Salsation ® (A26F3216) 
LOCATION:Falkensee / VHS / Aula, Poststr. 15, 14612 Falkensee
END:VEVENT
BEGIN:VEVENT
DTSTAMP:20260420T104659
DTSTART;TZID=Europe/Berlin:20260423T183000
DTEND;TZID=Europe/Berlin:20260423T193000
UID:A26F3216-20260423T183000@VHSHAVELLAND
SUMMARY:Salsation ® (A26F3216) 
LOCATION:Falkensee / VHS / Aula, Poststr. 15, 14612 Falkensee
END:VEVENT
BEGIN:VEVENT
DTSTAMP:20260420T104659
DTSTART;TZID=Europe/Berlin:20260430T183000
DTEND;TZID=Europe/Berlin:20260430T193000
UID:A26F3216-20260430T183000@VHSHAVELLAND
SUMMARY:Salsation ® (A26F3216) 
LOCATION:Falkensee / VHS / Aula, Poststr. 15, 14612 Falkensee
END:VEVENT
BEGIN:VEVENT
DTSTAMP:20260420T104659
DTSTART;TZID=Europe/Berlin:20260521T183000
DTEND;TZID=Europe/Berlin:20260521T193000
UID:A26F3216-20260521T183000@VHSHAVELLAND
SUMMARY:Salsation ® (A26F3216) 
LOCATION:Falkensee / VHS / Aula, Poststr. 15, 14612 Falkensee
END:VEVENT
BEGIN:VEVENT
DTSTAMP:20260420T104659
DTSTART;TZID=Europe/Berlin:20260528T183000
DTEND;TZID=Europe/Berlin:20260528T193000
UID:A26F3216-20260528T183000@VHSHAVELLAND
SUMMARY:Salsation ® (A26F3216) 
LOCATION:Falkensee / VHS / Aula, Poststr. 15, 14612 Falkensee
END:VEVENT
BEGIN:VEVENT
DTSTAMP:20260420T104659
DTSTART;TZID=Europe/Berlin:20260604T183000
DTEND;TZID=Europe/Berlin:20260604T193000
UID:A26F3216-20260604T183000@VHSHAVELLAND
SUMMARY:Salsation ® (A26F3216) 
LOCATION:Falkensee / VHS / Aula, Poststr. 15, 14612 Falkensee
END:VEVENT
BEGIN:VEVENT
DTSTAMP:20260420T104659
DTSTART;TZID=Europe/Berlin:20260611T183000
DTEND;TZID=Europe/Berlin:20260611T193000
UID:A26F3216-20260611T183000@VHSHAVELLAND
SUMMARY:Salsation ® (A26F3216) 
LOCATION:Falkensee / VHS / Aula, Poststr. 15, 14612 Falkensee
END:VEVENT
BEGIN:VEVENT
DTSTAMP:20260420T104659
DTSTART;TZID=Europe/Berlin:20260618T183000
DTEND;TZID=Europe/Berlin:20260618T193000
UID:A26F3216-20260618T183000@VHSHAVELLAND
DESCRIPTION:20.04.26 (*SR): Nachholtermin vom 07.05.2026 am 18.06.2026
SUMMARY:Salsation ® (A26F3216) 
LOCATION:Falkensee / VHS / Aula, Poststr. 15, 14612 Falkensee
END:VEVENT
END:VCALENDAR