BEGIN:VCALENDAR
VERSION:2.0
PRODID:https://www.kufer.de/kuferweb / DE
METHOD:PUBLISH
CALSCALE:GREGORIAN
X-WR-TIMEZONE:Europe/Berlin
BEGIN:VTIMEZONE
TZID:Europe/Berlin
X-LIC-LOCATION:Europe/Berlin
BEGIN:DAYLIGHT
TZOFFSETFROM:+0100
TZOFFSETTO:+0200
TZNAME:CEST
DTSTART:19700329T020000
RRULE:FREQ=YEARLY;INTERVAL=1;BYDAY=-1SU;BYMONTH=3
END:DAYLIGHT
BEGIN:STANDARD
TZOFFSETFROM:+0200
TZOFFSETTO:+0100
TZNAME:CET
DTSTART:19701025T030000
RRULE:FREQ=YEARLY;INTERVAL=1;BYDAY=-1SU;BYMONTH=10
END:STANDARD
END:VTIMEZONE
BEGIN:VEVENT
DTSTAMP:20260420T104602
DTSTART;TZID=Europe/Berlin:20260212T180000
DTEND;TZID=Europe/Berlin:20260212T211500
UID:A26F2B01-20260212T180000@VHSHAVELLAND
SUMMARY:Rahmen sucht Bild Fotogruppe (A26F2B01) 
LOCATION:Falkensee / VHS / Raum E-09, Poststr. 15, 14612 Falkensee
END:VEVENT
BEGIN:VEVENT
DTSTAMP:20260420T104602
DTSTART;TZID=Europe/Berlin:20260305T180000
DTEND;TZID=Europe/Berlin:20260305T211500
UID:A26F2B01-20260305T180000@VHSHAVELLAND
SUMMARY:Rahmen sucht Bild Fotogruppe (A26F2B01) 
LOCATION:Falkensee / VHS / Raum E-09, Poststr. 15, 14612 Falkensee
END:VEVENT
BEGIN:VEVENT
DTSTAMP:20260420T104602
DTSTART;TZID=Europe/Berlin:20260416T170000
DTEND;TZID=Europe/Berlin:20260416T220000
UID:A26F2B01-20260416T170000@VHSHAVELLAND
SUMMARY:Rahmen sucht Bild Fotogruppe (A26F2B01) 
LOCATION:Falkensee / VHS / Raum E-08, Poststr. 15, 14612 Falkensee
END:VEVENT
BEGIN:VEVENT
DTSTAMP:20260420T104602
DTSTART;TZID=Europe/Berlin:20260416T180000
DTEND;TZID=Europe/Berlin:20260416T211500
UID:A26F2B01-20260416T180000@VHSHAVELLAND
SUMMARY:Rahmen sucht Bild Fotogruppe (A26F2B01) 
LOCATION:Falkensee / VHS / Raum E-09, Poststr. 15, 14612 Falkensee
END:VEVENT
BEGIN:VEVENT
DTSTAMP:20260420T104602
DTSTART;TZID=Europe/Berlin:20260507T180000
DTEND;TZID=Europe/Berlin:20260507T211500
UID:A26F2B01-20260507T180000@VHSHAVELLAND
SUMMARY:Rahmen sucht Bild Fotogruppe (A26F2B01) 
LOCATION:Falkensee / VHS / Raum E-09, Poststr. 15, 14612 Falkensee
END:VEVENT
BEGIN:VEVENT
DTSTAMP:20260420T104602
DTSTART;TZID=Europe/Berlin:20260611T180000
DTEND;TZID=Europe/Berlin:20260611T211500
UID:A26F2B01-20260611T180000@VHSHAVELLAND
SUMMARY:Rahmen sucht Bild Fotogruppe (A26F2B01) 
LOCATION:Falkensee / VHS / Raum E-09, Poststr. 15, 14612 Falkensee
END:VEVENT
END:VCALENDAR