BEGIN:VCALENDAR
VERSION:2.0
PRODID:https://www.kufer.de/kuferweb / DE
METHOD:PUBLISH
CALSCALE:GREGORIAN
X-WR-TIMEZONE:Europe/Berlin
BEGIN:VTIMEZONE
TZID:Europe/Berlin
X-LIC-LOCATION:Europe/Berlin
BEGIN:DAYLIGHT
TZOFFSETFROM:+0100
TZOFFSETTO:+0200
TZNAME:CEST
DTSTART:19700329T020000
RRULE:FREQ=YEARLY;INTERVAL=1;BYDAY=-1SU;BYMONTH=3
END:DAYLIGHT
BEGIN:STANDARD
TZOFFSETFROM:+0200
TZOFFSETTO:+0100
TZNAME:CET
DTSTART:19701025T030000
RRULE:FREQ=YEARLY;INTERVAL=1;BYDAY=-1SU;BYMONTH=10
END:STANDARD
END:VTIMEZONE
BEGIN:VEVENT
DTSTAMP:20260420T110349
DTSTART;TZID=Europe/Berlin:20260617T160000
DTEND;TZID=Europe/Berlin:20260617T190000
UID:A26F2806-20260617T160000@VHSHAVELLAND
SUMMARY:Töpfern ohne Drehscheibe für Anfänger und Fortgeschrittene in Nauen (A26F2806) 
LOCATION:Nauen / Blaues Haus / Keramikraum, , 
END:VEVENT
BEGIN:VEVENT
DTSTAMP:20260420T110349
DTSTART;TZID=Europe/Berlin:20260622T160000
DTEND;TZID=Europe/Berlin:20260622T190000
UID:A26F2806-20260622T160000@VHSHAVELLAND
SUMMARY:Töpfern ohne Drehscheibe für Anfänger und Fortgeschrittene in Nauen (A26F2806) 
LOCATION:Nauen / Blaues Haus / Keramikraum, , 
END:VEVENT
BEGIN:VEVENT
DTSTAMP:20260420T110349
DTSTART;TZID=Europe/Berlin:20260629T160000
DTEND;TZID=Europe/Berlin:20260629T190000
UID:A26F2806-20260629T160000@VHSHAVELLAND
SUMMARY:Töpfern ohne Drehscheibe für Anfänger und Fortgeschrittene in Nauen (A26F2806) 
LOCATION:Nauen / Blaues Haus / Keramikraum, , 
END:VEVENT
BEGIN:VEVENT
DTSTAMP:20260420T110349
DTSTART;TZID=Europe/Berlin:20260706T160000
DTEND;TZID=Europe/Berlin:20260706T190000
UID:A26F2806-20260706T160000@VHSHAVELLAND
SUMMARY:Töpfern ohne Drehscheibe für Anfänger und Fortgeschrittene in Nauen (A26F2806) 
LOCATION:Nauen / Blaues Haus / Keramikraum, , 
END:VEVENT
BEGIN:VEVENT
DTSTAMP:20260420T110349
DTSTART;TZID=Europe/Berlin:20260824T160000
DTEND;TZID=Europe/Berlin:20260824T190000
UID:A26F2806-20260824T160000@VHSHAVELLAND
SUMMARY:Töpfern ohne Drehscheibe für Anfänger und Fortgeschrittene in Nauen (A26F2806) 
LOCATION:Nauen / Blaues Haus / Keramikraum, , 
END:VEVENT
BEGIN:VEVENT
DTSTAMP:20260420T110349
DTSTART;TZID=Europe/Berlin:20260907T160000
DTEND;TZID=Europe/Berlin:20260907T190000
UID:A26F2806-20260907T160000@VHSHAVELLAND
SUMMARY:Töpfern ohne Drehscheibe für Anfänger und Fortgeschrittene in Nauen (A26F2806) 
LOCATION:Nauen / Blaues Haus / Keramikraum, , 
END:VEVENT
END:VCALENDAR