BEGIN:VCALENDAR
VERSION:2.0
PRODID:https://www.kufer.de/kuferweb / DE
METHOD:PUBLISH
CALSCALE:GREGORIAN
X-WR-TIMEZONE:Europe/Berlin
BEGIN:VTIMEZONE
TZID:Europe/Berlin
X-LIC-LOCATION:Europe/Berlin
BEGIN:DAYLIGHT
TZOFFSETFROM:+0100
TZOFFSETTO:+0200
TZNAME:CEST
DTSTART:19700329T020000
RRULE:FREQ=YEARLY;INTERVAL=1;BYDAY=-1SU;BYMONTH=3
END:DAYLIGHT
BEGIN:STANDARD
TZOFFSETFROM:+0200
TZOFFSETTO:+0100
TZNAME:CET
DTSTART:19701025T030000
RRULE:FREQ=YEARLY;INTERVAL=1;BYDAY=-1SU;BYMONTH=10
END:STANDARD
END:VTIMEZONE
BEGIN:VEVENT
DTSTAMP:20260420T104602
DTSTART;TZID=Europe/Berlin:20260216T160000
DTEND;TZID=Europe/Berlin:20260216T190000
UID:A26F2805-20260216T160000@VHSHAVELLAND
SUMMARY:Töpfern ohne Drehscheibe für Anfänger und Fortgeschrittene in Nauen (A26F2805) 
LOCATION:Nauen / Blaues Haus / Keramikraum, , 
END:VEVENT
BEGIN:VEVENT
DTSTAMP:20260420T104602
DTSTART;TZID=Europe/Berlin:20260223T160000
DTEND;TZID=Europe/Berlin:20260223T190000
UID:A26F2805-20260223T160000@VHSHAVELLAND
SUMMARY:Töpfern ohne Drehscheibe für Anfänger und Fortgeschrittene in Nauen (A26F2805) 
LOCATION:Nauen / Blaues Haus / Keramikraum, , 
END:VEVENT
BEGIN:VEVENT
DTSTAMP:20260420T104602
DTSTART;TZID=Europe/Berlin:20260302T160000
DTEND;TZID=Europe/Berlin:20260302T190000
UID:A26F2805-20260302T160000@VHSHAVELLAND
SUMMARY:Töpfern ohne Drehscheibe für Anfänger und Fortgeschrittene in Nauen (A26F2805) 
LOCATION:Nauen / Blaues Haus / Keramikraum, , 
END:VEVENT
BEGIN:VEVENT
DTSTAMP:20260420T104602
DTSTART;TZID=Europe/Berlin:20260309T160000
DTEND;TZID=Europe/Berlin:20260309T190000
UID:A26F2805-20260309T160000@VHSHAVELLAND
SUMMARY:Töpfern ohne Drehscheibe für Anfänger und Fortgeschrittene in Nauen (A26F2805) 
LOCATION:Nauen / Blaues Haus / Keramikraum, , 
END:VEVENT
BEGIN:VEVENT
DTSTAMP:20260420T104602
DTSTART;TZID=Europe/Berlin:20260316T160000
DTEND;TZID=Europe/Berlin:20260316T190000
UID:A26F2805-20260316T160000@VHSHAVELLAND
SUMMARY:Töpfern ohne Drehscheibe für Anfänger und Fortgeschrittene in Nauen (A26F2805) 
LOCATION:Nauen / Blaues Haus / Keramikraum, , 
END:VEVENT
BEGIN:VEVENT
DTSTAMP:20260420T104602
DTSTART;TZID=Europe/Berlin:20260413T160000
DTEND;TZID=Europe/Berlin:20260413T190000
UID:A26F2805-20260413T160000@VHSHAVELLAND
SUMMARY:Töpfern ohne Drehscheibe für Anfänger und Fortgeschrittene in Nauen (A26F2805) 
LOCATION:Nauen / Blaues Haus / Keramikraum, , 
END:VEVENT
BEGIN:VEVENT
DTSTAMP:20260420T104602
DTSTART;TZID=Europe/Berlin:20260504T160000
DTEND;TZID=Europe/Berlin:20260504T190000
UID:A26F2805-20260504T160000@VHSHAVELLAND
SUMMARY:Töpfern ohne Drehscheibe für Anfänger und Fortgeschrittene in Nauen (A26F2805) 
LOCATION:Nauen / Blaues Haus / Keramikraum, , 
END:VEVENT
BEGIN:VEVENT
DTSTAMP:20260420T104602
DTSTART;TZID=Europe/Berlin:20260518T160000
DTEND;TZID=Europe/Berlin:20260518T190000
UID:A26F2805-20260518T160000@VHSHAVELLAND
SUMMARY:Töpfern ohne Drehscheibe für Anfänger und Fortgeschrittene in Nauen (A26F2805) 
LOCATION:Nauen / Blaues Haus / Keramikraum, , 
END:VEVENT
BEGIN:VEVENT
DTSTAMP:20260420T104602
DTSTART;TZID=Europe/Berlin:20260601T160000
DTEND;TZID=Europe/Berlin:20260601T190000
UID:A26F2805-20260601T160000@VHSHAVELLAND
SUMMARY:Töpfern ohne Drehscheibe für Anfänger und Fortgeschrittene in Nauen (A26F2805) 
LOCATION:Nauen / Blaues Haus / Keramikraum, , 
END:VEVENT
BEGIN:VEVENT
DTSTAMP:20260420T104602
DTSTART;TZID=Europe/Berlin:20260608T160000
DTEND;TZID=Europe/Berlin:20260608T190000
UID:A26F2805-20260608T160000@VHSHAVELLAND
SUMMARY:Töpfern ohne Drehscheibe für Anfänger und Fortgeschrittene in Nauen (A26F2805) 
LOCATION:Nauen / Blaues Haus / Keramikraum, , 
END:VEVENT
END:VCALENDAR